BEGIN:VCALENDAR
VERSION:2.0
PRODID:spatie/icalendar-generator
DESCRIPTION:Events from Soledad Coronada y Sagrado Descendimiento
X-WR-CALDESC:Events from Soledad Coronada y Sagrado Descendimiento
REFRESH-INTERVAL;VALUE=DURATION:PT1440M
X-PUBLISHED-TTL:PT1440M
BEGIN:VTIMEZONE
TZID:Europe/Madrid
BEGIN:STANDARD
DTSTART:20221030T030000Z
TZOFFSETFROM:+0200
TZOFFSETTO:+0100
END:STANDARD
BEGIN:DAYLIGHT
DTSTART:20230326T020000Z
TZOFFSETFROM:+0100
TZOFFSETTO:+0200
END:DAYLIGHT
END:VTIMEZONE
BEGIN:VTIMEZONE
TZID:UTC
BEGIN:STANDARD
DTSTART:20250726T074537Z
TZOFFSETFROM:+0000
TZOFFSETTO:+0000
END:STANDARD
END:VTIMEZONE
BEGIN:VEVENT
UID:95-21
DTSTAMP:20260422T074537Z
SUMMARY:Convivencia Grupo Joven
LOCATION:Casa de Hermandad C/ Diego de Torres nº3
ORGANIZER;CN=Soledad y Descendimiento:MAILTO:comunicaciones@soledadydescend
 imiento.es
DTSTART;TZID=Europe/Madrid:20230422T200000
DTEND;TZID=Europe/Madrid:20230422T210000
X-ALT-DESC;FMTTYPE=TEXT/HTML:El Grupo Joven convoca a todos los jóvenes de
  la Hermandad con el fin de pasar una tarde de confraternización y poder 
 disfrutar todos juntos. Compartiremos una merienda/cena en la que cada uno
  podemos llevar algo para compartir\, hablaremos de inquietudes\, activida
 des que queremos organizar con vosotros y para vosotros. Se trata de una c
 onvivencia&amp;hellip\;
CATEGORIES:Social
URL;VALUE=URI:https://soledadydescendimiento.es/mc-events/convivencia-grupo
 -joven
METHOD:PUBLISH
END:VEVENT
END:VCALENDAR