BEGIN:VCALENDAR
VERSION:2.0
PRODID:spatie/icalendar-generator
DESCRIPTION:Events from Soledad Coronada y Sagrado Descendimiento
X-WR-CALDESC:Events from Soledad Coronada y Sagrado Descendimiento
REFRESH-INTERVAL;VALUE=DURATION:PT1440M
X-PUBLISHED-TTL:PT1440M
BEGIN:VTIMEZONE
TZID:Europe/Madrid
BEGIN:DAYLIGHT
DTSTART:20230326T020000Z
TZOFFSETFROM:+0100
TZOFFSETTO:+0200
END:DAYLIGHT
BEGIN:STANDARD
DTSTART:20231029T030000Z
TZOFFSETFROM:+0200
TZOFFSETTO:+0100
END:STANDARD
BEGIN:DAYLIGHT
DTSTART:20240331T020000Z
TZOFFSETFROM:+0100
TZOFFSETTO:+0200
END:DAYLIGHT
END:VTIMEZONE
BEGIN:VTIMEZONE
TZID:UTC
BEGIN:STANDARD
DTSTART:20250725T140530Z
TZOFFSETFROM:+0000
TZOFFSETTO:+0000
END:STANDARD
END:VTIMEZONE
BEGIN:VEVENT
UID:207-36
DTSTAMP:20260421T140530Z
SUMMARY:I Sesión formativa: La virtud teologal de la caridad
LOCATION:Casa de Hermandad C/ Diego de Torres nº3
ORGANIZER;CN=Soledad y Descendimiento:MAILTO:comunicaciones@soledadydescend
 imiento.es
DTSTART;TZID=Europe/Madrid:20231104T180000
DTEND;TZID=Europe/Madrid:20231104T193000
X-ALT-DESC;FMTTYPE=TEXT/HTML:
CATEGORIES:Formación
URL;VALUE=URI:https://soledadydescendimiento.es/mc-events/i-sesion-formativ
 a-la-virtud-teologal-de-la-caridad
METHOD:PUBLISH
END:VEVENT
END:VCALENDAR