BEGIN:VCALENDAR
VERSION:2.0
PRODID:spatie/icalendar-generator
DESCRIPTION:Events from Soledad Coronada y Sagrado Descendimiento
X-WR-CALDESC:Events from Soledad Coronada y Sagrado Descendimiento
REFRESH-INTERVAL;VALUE=DURATION:PT1440M
X-PUBLISHED-TTL:PT1440M
BEGIN:VTIMEZONE
TZID:Europe/Madrid
BEGIN:DAYLIGHT
DTSTART:20230326T020000Z
TZOFFSETFROM:+0100
TZOFFSETTO:+0200
END:DAYLIGHT
BEGIN:STANDARD
DTSTART:20231029T030000Z
TZOFFSETFROM:+0200
TZOFFSETTO:+0100
END:STANDARD
BEGIN:DAYLIGHT
DTSTART:20240331T020000Z
TZOFFSETFROM:+0100
TZOFFSETTO:+0200
END:DAYLIGHT
END:VTIMEZONE
BEGIN:VTIMEZONE
TZID:UTC
BEGIN:STANDARD
DTSTART:20250726T074602Z
TZOFFSETFROM:+0000
TZOFFSETTO:+0000
END:STANDARD
END:VTIMEZONE
BEGIN:VEVENT
UID:193-24
DTSTAMP:20260422T074602Z
SUMMARY:Triduo en conmemoración al XXIII aniversario de la Coronación Can
 ónica de Nuestra Señora de la Soledad.
LOCATION:Parroquia de Santa María la Mayor C. Libreros\, 25  Alcalá de He
 nares Madrid 28801
ORGANIZER;CN=Soledad y Descendimiento:MAILTO:comunicaciones@soledadydescend
 imiento.es
DTSTART;TZID=Europe/Madrid;VALUE=DATE:20230928
DTEND;TZID=Europe/Madrid;VALUE=DATE:20230929
X-ALT-DESC;FMTTYPE=TEXT/HTML:
CATEGORIES:Cultos
URL;VALUE=URI:https://soledadydescendimiento.es/mc-events/triduo-en-conmemo
 racion-al-xxiii-aniversario-de-la-coronacion-canonica-de-nuestra-senora-de
 -la-soledad
METHOD:PUBLISH
END:VEVENT
END:VCALENDAR