BEGIN:VCALENDAR
VERSION:2.0
PRODID:spatie/icalendar-generator
DESCRIPTION:Events from Soledad Coronada y Sagrado Descendimiento
X-WR-CALDESC:Events from Soledad Coronada y Sagrado Descendimiento
REFRESH-INTERVAL;VALUE=DURATION:PT1440M
X-PUBLISHED-TTL:PT1440M
BEGIN:VTIMEZONE
TZID:Europe/Madrid
BEGIN:DAYLIGHT
DTSTART:20250330T020000Z
TZOFFSETFROM:+0100
TZOFFSETTO:+0200
END:DAYLIGHT
BEGIN:STANDARD
DTSTART:20251026T030000Z
TZOFFSETFROM:+0200
TZOFFSETTO:+0100
END:STANDARD
BEGIN:DAYLIGHT
DTSTART:20260329T020000Z
TZOFFSETFROM:+0100
TZOFFSETTO:+0200
END:DAYLIGHT
END:VTIMEZONE
BEGIN:VTIMEZONE
TZID:UTC
BEGIN:STANDARD
DTSTART:20250725T194727Z
TZOFFSETFROM:+0000
TZOFFSETTO:+0000
END:STANDARD
END:VTIMEZONE
BEGIN:VEVENT
UID:315-57
DTSTAMP:20260421T194727Z
SUMMARY:XXV Aniversario de la Coronación Canónica de María Santísima de
  la Soledad
LOCATION:S.I Catedral Magristral
ORGANIZER;CN=Soledad y Descendimiento:MAILTO:comunicaciones@soledadydescend
 imiento.es
DTSTART;TZID=Europe/Madrid:20250927T170000
DTEND;TZID=Europe/Madrid:20250927T180000
X-ALT-DESC;FMTTYPE=TEXT/HTML:
CATEGORIES:Cultos
URL;VALUE=URI:https://soledadydescendimiento.es/mc-events/xxv-aniversario-d
 e-la-coronacion-canonica-de-maria-santisima-de-la-soledad
METHOD:PUBLISH
END:VEVENT
END:VCALENDAR