BEGIN:VCALENDAR
VERSION:2.0
PRODID:spatie/icalendar-generator
DESCRIPTION:Events from Soledad Coronada y Sagrado Descendimiento
X-WR-CALDESC:Events from Soledad Coronada y Sagrado Descendimiento
REFRESH-INTERVAL;VALUE=DURATION:PT1440M
X-PUBLISHED-TTL:PT1440M
BEGIN:VTIMEZONE
TZID:Europe/Madrid
BEGIN:DAYLIGHT
DTSTART:20250330T020000Z
TZOFFSETFROM:+0100
TZOFFSETTO:+0200
END:DAYLIGHT
BEGIN:STANDARD
DTSTART:20251026T030000Z
TZOFFSETFROM:+0200
TZOFFSETTO:+0100
END:STANDARD
END:VTIMEZONE
BEGIN:VTIMEZONE
TZID:UTC
BEGIN:STANDARD
DTSTART:20250726T000148Z
TZOFFSETFROM:+0000
TZOFFSETTO:+0000
END:STANDARD
END:VTIMEZONE
BEGIN:VEVENT
UID:311-54
DTSTAMP:20260422T000148Z
SUMMARY:Triduo en conmemoración al XXV Aniversario de la Coronación Canó
 nica de María Santísima de la Soledad
LOCATION:Parroquia de Santa María la Mayor C. Libreros\, 25  Alcalá de He
 nares Madrid 28801
ORGANIZER;CN=Soledad y Descendimiento:MAILTO:comunicaciones@soledadydescend
 imiento.es
DTSTART;TZID=Europe/Madrid;VALUE=DATE:20250924
DTEND;TZID=Europe/Madrid;VALUE=DATE:20250925
X-ALT-DESC;FMTTYPE=TEXT/HTML:
CATEGORIES:Cultos
URL;VALUE=URI:https://soledadydescendimiento.es/mc-events/triduo-en-conmemo
 racion-al-xxv-aniversario-de-la-coronacion-canonica-de-maria-santisima-de-
 la-soledad
METHOD:PUBLISH
END:VEVENT
END:VCALENDAR