BEGIN:VCALENDAR
VERSION:2.0
PRODID:spatie/icalendar-generator
DESCRIPTION:Events from Soledad Coronada y Sagrado Descendimiento
X-WR-CALDESC:Events from Soledad Coronada y Sagrado Descendimiento
REFRESH-INTERVAL;VALUE=DURATION:PT1440M
X-PUBLISHED-TTL:PT1440M
BEGIN:VTIMEZONE
TZID:Europe/Madrid
BEGIN:STANDARD
DTSTART:20241027T030000Z
TZOFFSETFROM:+0200
TZOFFSETTO:+0100
END:STANDARD
BEGIN:DAYLIGHT
DTSTART:20250330T020000Z
TZOFFSETFROM:+0100
TZOFFSETTO:+0200
END:DAYLIGHT
END:VTIMEZONE
BEGIN:VTIMEZONE
TZID:UTC
BEGIN:STANDARD
DTSTART:20250726T011737Z
TZOFFSETFROM:+0000
TZOFFSETTO:+0000
END:STANDARD
END:VTIMEZONE
BEGIN:VEVENT
UID:310-53
DTSTAMP:20260422T011737Z
SUMMARY:Estación de penitencia
LOCATION:Parroquia de Santa María la Mayor C. Libreros\, 25  Alcalá de He
 nares Madrid 28801
ORGANIZER;CN=Soledad y Descendimiento:MAILTO:comunicaciones@soledadydescend
 imiento.es
DTSTART;TZID=Europe/Madrid:20250418T193000
DTEND;TZID=Europe/Madrid:20250419T000000
X-ALT-DESC;FMTTYPE=TEXT/HTML:
CATEGORIES:Cultos
URL;VALUE=URI:https://soledadydescendimiento.es/mc-events/estacion-de-penit
 encia-2
METHOD:PUBLISH
END:VEVENT
END:VCALENDAR