BEGIN:VCALENDAR
VERSION:2.0
PRODID:spatie/icalendar-generator
DESCRIPTION:Events from Soledad Coronada y Sagrado Descendimiento
X-WR-CALDESC:Events from Soledad Coronada y Sagrado Descendimiento
REFRESH-INTERVAL;VALUE=DURATION:PT1440M
X-PUBLISHED-TTL:PT1440M
BEGIN:VTIMEZONE
TZID:Europe/Madrid
BEGIN:STANDARD
DTSTART:20241027T030000Z
TZOFFSETFROM:+0200
TZOFFSETTO:+0100
END:STANDARD
BEGIN:DAYLIGHT
DTSTART:20250330T020000Z
TZOFFSETFROM:+0100
TZOFFSETTO:+0200
END:DAYLIGHT
END:VTIMEZONE
BEGIN:VTIMEZONE
TZID:UTC
BEGIN:STANDARD
DTSTART:20250726T151044Z
TZOFFSETFROM:+0000
TZOFFSETTO:+0000
END:STANDARD
END:VTIMEZONE
BEGIN:VEVENT
UID:302-45
DTSTAMP:20260422T151044Z
SUMMARY:II Sesión formativa: La tradición de la Iglesia Católica (Dei Ve
 rbum)
LOCATION:Casa de Hermandad C/ Diego de Torres nº3
ORGANIZER;CN=Soledad y Descendimiento:MAILTO:comunicaciones@soledadydescend
 imiento.es
DTSTART;TZID=Europe/Madrid:20250215T180000
DTEND;TZID=Europe/Madrid:20250215T193000
X-ALT-DESC;FMTTYPE=TEXT/HTML:
CATEGORIES:Formación
URL;VALUE=URI:https://soledadydescendimiento.es/mc-events/ii-sesion-formati
 va-la-tradicion-de-la-iglesia-catolica-dei-verbum
METHOD:PUBLISH
END:VEVENT
END:VCALENDAR