BEGIN:VCALENDAR
VERSION:2.0
PRODID:spatie/icalendar-generator
DESCRIPTION:Events from Soledad Coronada y Sagrado Descendimiento
X-WR-CALDESC:Events from Soledad Coronada y Sagrado Descendimiento
REFRESH-INTERVAL;VALUE=DURATION:PT1440M
X-PUBLISHED-TTL:PT1440M
BEGIN:VTIMEZONE
TZID:Europe/Madrid
BEGIN:DAYLIGHT
DTSTART:20240331T020000Z
TZOFFSETFROM:+0100
TZOFFSETTO:+0200
END:DAYLIGHT
BEGIN:STANDARD
DTSTART:20241027T030000Z
TZOFFSETFROM:+0200
TZOFFSETTO:+0100
END:STANDARD
BEGIN:DAYLIGHT
DTSTART:20250330T020000Z
TZOFFSETFROM:+0100
TZOFFSETTO:+0200
END:DAYLIGHT
END:VTIMEZONE
BEGIN:VTIMEZONE
TZID:UTC
BEGIN:STANDARD
DTSTART:20250725T081822Z
TZOFFSETFROM:+0000
TZOFFSETTO:+0000
END:STANDARD
END:VTIMEZONE
BEGIN:VEVENT
UID:300-43
DTSTAMP:20260421T081822Z
SUMMARY:Reunión costaleros: Salida extraordinaria con motivo del XXV Anive
 rsario de la Coronación Canónica de María Santísima de la Soledad
LOCATION:Casa de Hermandad C/ Diego de Torres nº3
ORGANIZER;CN=Soledad y Descendimiento:MAILTO:comunicaciones@soledadydescend
 imiento.es
DTSTART;TZID=Europe/Madrid:20241124T110000
DTEND;TZID=Europe/Madrid:20241124T120000
X-ALT-DESC;FMTTYPE=TEXT/HTML:
CATEGORIES:General
URL;VALUE=URI:https://soledadydescendimiento.es/mc-events/reunion-costalero
 s-salida-extraordinaria-con-motivo-del-xxv-aniversario-de-la-coronacion-ca
 nonica-de-maria-santisima-de-la-soledad
METHOD:PUBLISH
END:VEVENT
END:VCALENDAR